BEGIN:VCALENDAR
VERSION:2.0
PRODID:-//hacksw/handcal//NONSGML v1.0//EN
BEGIN:VEVENT
SUMMARY:Entrainement
UID:355c03d5-250d-4434-87ff-76e1d1fe6488
DTSTART:20260301T090000Z
DTEND:20260301T130000Z
LOCATION:Localisation   
CATEGORIES:Entrainement
STATUS:
DESCRIPTION:Entrainement pour toutes les equipes afin de preparer les
 prochains matchs.
URL;VALUE=URI:https://mesb.sportsregions.fr/evenements/2026/03/01/entrainement-2421837
END:VEVENT
BEGIN:VEVENT
SUMMARY:Match
UID:11a19300-3f1a-412b-9998-66a8c66f196a
DTSTART:20260301T090000Z
DTEND:20260301T130000Z
LOCATION:Localisation   
CATEGORIES:Sportif
STATUS:
DESCRIPTION:<p>Le match d’aujourd’hui s'est termine sur une belle
 victoire de notre equipe 89-73.</p><p>Le club remonte au classement.
 Prochaine rencontre la semaine prochaine.</p>
URL;VALUE=URI:https://mesb.sportsregions.fr/evenements/2026/03/01/match-2421836
END:VEVENT
END:VCALENDAR
